BEGIN:VCALENDAR
VERSION:2.0
PRODID:-//CarShield FC - ECPv6.15.20//NONSGML v1.0//EN
CALSCALE:GREGORIAN
METHOD:PUBLISH
X-ORIGINAL-URL:https://carshieldfc.com
X-WR-CALDESC:Events for CarShield FC
REFRESH-INTERVAL;VALUE=DURATION:PT1H
X-Robots-Tag:noindex
X-PUBLISHED-TTL:PT1H
BEGIN:VTIMEZONE
TZID:America/Chicago
BEGIN:DAYLIGHT
TZOFFSETFROM:-0600
TZOFFSETTO:-0500
TZNAME:CDT
DTSTART:20200308T080000
END:DAYLIGHT
BEGIN:STANDARD
TZOFFSETFROM:-0500
TZOFFSETTO:-0600
TZNAME:CST
DTSTART:20201101T070000
END:STANDARD
BEGIN:DAYLIGHT
TZOFFSETFROM:-0600
TZOFFSETTO:-0500
TZNAME:CDT
DTSTART:20210314T080000
END:DAYLIGHT
BEGIN:STANDARD
TZOFFSETFROM:-0500
TZOFFSETTO:-0600
TZNAME:CST
DTSTART:20211107T070000
END:STANDARD
BEGIN:DAYLIGHT
TZOFFSETFROM:-0600
TZOFFSETTO:-0500
TZNAME:CDT
DTSTART:20220313T080000
END:DAYLIGHT
BEGIN:STANDARD
TZOFFSETFROM:-0500
TZOFFSETTO:-0600
TZNAME:CST
DTSTART:20221106T070000
END:STANDARD
BEGIN:DAYLIGHT
TZOFFSETFROM:-0600
TZOFFSETTO:-0500
TZNAME:CDT
DTSTART:20230312T080000
END:DAYLIGHT
BEGIN:STANDARD
TZOFFSETFROM:-0500
TZOFFSETTO:-0600
TZNAME:CST
DTSTART:20231105T070000
END:STANDARD
END:VTIMEZONE
BEGIN:VEVENT
DTSTART;TZID=America/Chicago:20220819T080000
DTEND;TZID=America/Chicago:20220821T170000
DTSTAMP:20260424T105900
CREATED:20220414T211336Z
LAST-MODIFIED:20220414T211339Z
UID:1593-1660896000-1661101200@carshieldfc.com
SUMMARY:CarShield's Adam Ragsdale Memorial Tournament
DESCRIPTION:Ages / Divisions:Boys U8–U19 BracketsGirls U8–U19 BracketsEvent Date:February 18–20\, 2022No Monday Games!Team Pricing: 7v7 teams = $6759v9 teams = $75011v11 teams (U13-U14) = $85011v11 teams (U15-U19) = $875\n\n\n\nREGISTRATION DEADLINE: JULY 19\, 2022
URL:https://carshieldfc.com/event/carshields-adam-ragsdale-memorial-tournament
LOCATION:SLYSA Soccer Complex\, 3901 Huster Road\, Saint Charles\, Missouri\, 63301\, United States
ORGANIZER;CN="Scott Woodard":MAILTO:scott.woodard@carshieldfc.com
END:VEVENT
BEGIN:VEVENT
DTSTART;TZID=America/Chicago:20220711T120000
DTEND;TZID=America/Chicago:20220715T120000
DTSTAMP:20260424T105900
CREATED:20220324T194617Z
LAST-MODIFIED:20220324T194935Z
UID:1307-1657540800-1657886400@carshieldfc.com
SUMMARY:CarShield FC - Summer Camp II
DESCRIPTION:
URL:https://carshieldfc.com/event/carshield-fc-summer-camp-ii
LOCATION:STL Athletic Center\, 2300 Hitzert Ct\, Fenton\, MO\, 63026\, United States
ORGANIZER;CN="Nacho Novas":MAILTO:ignacionovas@gmail.com
END:VEVENT
BEGIN:VEVENT
DTSTART;TZID=America/Chicago:20220711T080000
DTEND;TZID=America/Chicago:20220711T130000
DTSTAMP:20260424T105900
CREATED:20220330T155137Z
LAST-MODIFIED:20220330T155326Z
UID:1319-1657526400-1657544400@carshieldfc.com
SUMMARY:2nd Annual DASA CarShield Golf Tournament
DESCRIPTION:We are excited to announce the details of our 2nd annual charity golf tournament.  CarShield Futbol Club has partnered with DASA as part of our giving back to the community program.  Proceeds will go to DASA (Disabled Athlete Sports Association) a local nonprofit helping to empower disabled children & adults and to the development of CarShield FC youth athletes. \n\n\n\nThis year’s tournament will be held on July 11th at the beautiful Old Hickory Golf Club. \n\n\n\nREGISTRATION IS OPEN and will close on June 1\, 2022.\n\n\n\nMonday – July 11th\, 2022 – 9:30 am Shotgun StartRegistration/Checkin – 8amOld Hickory Golf Club1 Dye Club DriveSt. Charles\, MO. 63304 \n\n\n\n$600 per foursome – includes a goody bag\, 18 holes of golf\, cart\, breakfast\, lunch & drinks \n\n\n\nSPONSORSHIP OPPORTUNITIES:\n\n\n\n$1500 Corporate Sponsor – sign\, banner\, foursome$100 Hole Sponsorship \n\n\n\nALL REGISTRATION AND SPONSORSHIPS DUE JUNE 1st \n\n\n\nNot a golfer?  Help support the cause by donating auction items & attendance prizes \n\n\n\nSign-Ups: Email or call Tom Hanebrink\, our Tournament DirectorEmail: tom_hanebrink@yahoo.comPhone: (314) 313-8257 \n\n\n\nPAYMENT OR DONATIONS: Venmo Tom @Tom-Hanebrink or checks can be made out to NX Level Soccer LLC
URL:https://carshieldfc.com/event/2nd-annual-dasa-carshield-golf-tournament
END:VEVENT
BEGIN:VEVENT
DTSTART;TZID=America/Chicago:20220613T080000
DTEND;TZID=America/Chicago:20220613T150000
DTSTAMP:20260424T105900
CREATED:20220324T193004Z
LAST-MODIFIED:20220324T194949Z
UID:1302-1655107200-1655132400@carshieldfc.com
SUMMARY:CarShield FC - Summer Camp I
DESCRIPTION:
URL:https://carshieldfc.com/event/carshield-fc-summer-camp
LOCATION:STL Athletic Center\, 2300 Hitzert Ct\, Fenton\, MO\, 63026\, United States
ORGANIZER;CN="Nacho Novas":MAILTO:ignacionovas@gmail.com
END:VEVENT
BEGIN:VEVENT
DTSTART;TZID=America/Chicago:20220407T190000
DTEND;TZID=America/Chicago:20220407T200000
DTSTAMP:20260424T105900
CREATED:20220324T192552Z
LAST-MODIFIED:20220324T192552Z
UID:1300-1649358000-1649361600@carshieldfc.com
SUMMARY:Lil' Shields 2014s
DESCRIPTION:
URL:https://carshieldfc.com/event/lil-shields-2014s
LOCATION:STL Athletic Center\, 2300 Hitzert Ct\, Fenton\, MO\, 63026\, United States
ORGANIZER;CN="Brian Long":MAILTO:brian.long@realwccfc.com
END:VEVENT
BEGIN:VEVENT
DTSTART;TZID=America/Chicago:20220405T180000
DTEND;TZID=America/Chicago:20220405T190000
DTSTAMP:20260424T105900
CREATED:20220324T191954Z
LAST-MODIFIED:20220324T191954Z
UID:1296-1649181600-1649185200@carshieldfc.com
SUMMARY:Lil' Shields 2015/16s
DESCRIPTION:
URL:https://carshieldfc.com/event/lil-shields-2015-16s
LOCATION:STL Athletic Center\, 2300 Hitzert Ct\, Fenton\, MO\, 63026\, United States
ORGANIZER;CN="Brian Long":MAILTO:brian.long@realwccfc.com
END:VEVENT
BEGIN:VEVENT
DTSTART;TZID=America/Chicago:20220404T193000
DTEND;TZID=America/Chicago:20220404T203000
DTSTAMP:20260424T105900
CREATED:20220324T191405Z
LAST-MODIFIED:20220324T191405Z
UID:1292-1649100600-1649104200@carshieldfc.com
SUMMARY:Managers Meeting
DESCRIPTION:
URL:https://carshieldfc.com/event/managers-meeting
LOCATION:CarShield Fields\, 900 TR Hughes Blvd\, OFallon\, 63366\, United States
END:VEVENT
BEGIN:VEVENT
DTSTART;TZID=America/Chicago:20210613T130000
DTEND;TZID=America/Chicago:20210613T140000
DTSTAMP:20260424T105900
CREATED:20210607T222214Z
LAST-MODIFIED:20210607T222214Z
UID:801-1623589200-1623592800@carshieldfc.com
SUMMARY:2006 Girls Tryouts
DESCRIPTION:
URL:https://carshieldfc.com/event/2006-girls-tryouts
LOCATION:Creve Coeur Park Soccer Complex\, 2350 Creve Coeur Mill Rd\, Maryland Heights\, MO\, 63043\, United States
ORGANIZER;CN="REAL WC C.F.C. Staff":MAILTO:info@realwccfc.com
END:VEVENT
BEGIN:VEVENT
DTSTART;TZID=America/Chicago:20210613T110000
DTEND;TZID=America/Chicago:20210613T120000
DTSTAMP:20260424T105900
CREATED:20210607T222107Z
LAST-MODIFIED:20210607T222107Z
UID:799-1623582000-1623585600@carshieldfc.com
SUMMARY:2011 Girls Tryouts
DESCRIPTION:
URL:https://carshieldfc.com/event/2011-girls-tryouts
LOCATION:Creve Coeur Park Soccer Complex\, 2350 Creve Coeur Mill Rd\, Maryland Heights\, MO\, 63043\, United States
ORGANIZER;CN="REAL WC C.F.C. Staff":MAILTO:info@realwccfc.com
END:VEVENT
BEGIN:VEVENT
DTSTART;TZID=America/Chicago:20210613T100000
DTEND;TZID=America/Chicago:20210613T110000
DTSTAMP:20260424T105900
CREATED:20210607T221116Z
LAST-MODIFIED:20210607T221116Z
UID:795-1623578400-1623582000@carshieldfc.com
SUMMARY:2012 Girls Tryouts
DESCRIPTION:
URL:https://carshieldfc.com/event/2012-girls-tryouts
LOCATION:Creve Coeur Park Soccer Complex\, 2350 Creve Coeur Mill Rd\, Maryland Heights\, MO\, 63043\, United States
ORGANIZER;CN="REAL WC C.F.C. Staff":MAILTO:info@realwccfc.com
END:VEVENT
END:VCALENDAR